BEGIN:VCALENDAR
VERSION:2.0
PRODID:-//Commerce in Common - ECPv6.15.20//NONSGML v1.0//EN
CALSCALE:GREGORIAN
METHOD:PUBLISH
X-WR-CALNAME:Commerce in Common
X-ORIGINAL-URL:https://commerceincommon.com
X-WR-CALDESC:Events for Commerce in Common
REFRESH-INTERVAL;VALUE=DURATION:PT1H
X-Robots-Tag:noindex
X-PUBLISHED-TTL:PT1H
BEGIN:VTIMEZONE
TZID:Asia/Bangkok
BEGIN:STANDARD
TZOFFSETFROM:+0700
TZOFFSETTO:+0700
TZNAME:+07
DTSTART:20240101T000000
END:STANDARD
END:VTIMEZONE
BEGIN:VTIMEZONE
TZID:Australia/Sydney
BEGIN:STANDARD
TZOFFSETFROM:+1100
TZOFFSETTO:+1000
TZNAME:AEST
DTSTART:20240406T160000
END:STANDARD
BEGIN:DAYLIGHT
TZOFFSETFROM:+1000
TZOFFSETTO:+1100
TZNAME:AEDT
DTSTART:20241005T160000
END:DAYLIGHT
BEGIN:STANDARD
TZOFFSETFROM:+1100
TZOFFSETTO:+1000
TZNAME:AEST
DTSTART:20250405T160000
END:STANDARD
BEGIN:DAYLIGHT
TZOFFSETFROM:+1000
TZOFFSETTO:+1100
TZNAME:AEDT
DTSTART:20251004T160000
END:DAYLIGHT
BEGIN:STANDARD
TZOFFSETFROM:+1100
TZOFFSETTO:+1000
TZNAME:AEST
DTSTART:20260404T160000
END:STANDARD
BEGIN:DAYLIGHT
TZOFFSETFROM:+1000
TZOFFSETTO:+1100
TZNAME:AEDT
DTSTART:20261003T160000
END:DAYLIGHT
END:VTIMEZONE
BEGIN:VTIMEZONE
TZID:Asia/Singapore
BEGIN:STANDARD
TZOFFSETFROM:+0800
TZOFFSETTO:+0800
TZNAME:+08
DTSTART:20240101T000000
END:STANDARD
END:VTIMEZONE
BEGIN:VEVENT
DTSTART;TZID=Asia/Bangkok:20250814T083000
DTEND;TZID=Asia/Bangkok:20250814T180000
DTSTAMP:20260424T034433
CREATED:20250812T035109Z
LAST-MODIFIED:20250812T035109Z
UID:10000021-1755160200-1755194400@commerceincommon.com
SUMMARY:DAAT DAY 2025 THE FUTURE OF ATTENTION
DESCRIPTION:The future of Attention
URL:https://commerceincommon.com/events/daat-day-2025-the-future-of-attention/
LOCATION:Bangkok International Trade & Exhibition Centre\, 88 Debaratna Rd\, Bangkok\, 10260\, Thailand
CATEGORIES:Paid tickets,Physical
END:VEVENT
BEGIN:VEVENT
DTSTART;TZID=Australia/Sydney:20250813T123000
DTEND;TZID=Australia/Sydney:20250813T133000
DTSTAMP:20260424T034433
CREATED:20250807T131655Z
LAST-MODIFIED:20250807T131655Z
UID:10000015-1755088200-1755091800@commerceincommon.com
SUMMARY:Webinar | The State of Loyalty in Australasian Retail 2025
DESCRIPTION:Join our State of the Nation 31 Live Webinar where we’ll reveal what’s really driving customer loyalty in 2025.\n  \n🔍 What you’ll discover: \n• Why traditional loyalty strategies are no longer enough \n• How AI is reshaping customer expectations and program effectiveness \n• The critical gap between what retailers think vs. what actually works \n• Actionable strategies to build genuine emotional connections with your customers \n  \nCustomer loyalty isn’t just about points and discounts anymore. The retailers winning in 2025 understand that one size doesn’t fit all – and neither should your loyalty strategy. \nReady to transform how you think about customer retention and loyalty? \nJoin us for this essential discussion on transforming the customer experience in Australasian retail.
URL:https://commerceincommon.com/events/webinar-the-state-of-loyalty-in-australasian-retail-2025/
LOCATION:VIC
CATEGORIES:Free Tickets Available,Virtual
END:VEVENT
BEGIN:VEVENT
DTSTART;TZID=Asia/Singapore:20250811T080000
DTEND;TZID=Asia/Singapore:20250811T170000
DTSTAMP:20260424T034433
CREATED:20250811T063556Z
LAST-MODIFIED:20250811T063556Z
UID:10000016-1754899200-1754931600@commerceincommon.com
SUMMARY:Retail Asia Summit 2025 - Singapore
DESCRIPTION:Building on the success of past events\, Retail Asia invites you to the Retail Asia Summit – Singapore on 23 September 2025. This event presents an opportunity to connect with fellow professionals\, exchange best practices\, and explore future opportunities within Singapore’s dynamic retail market. \nFocussing on the theme “Shaping the Future of Retail: Digital Integration and Consumer Trends in Singapore\,” key retail leaders and innovators convene to discuss insights on omnichannel strategies\, AI tools\, market growth\, e-commerce trends\, and emerging brands. \nTake this chance to be at the forefront of shaping the future of Singapore’s retail. Stay tuned for further details and be part of this transformative journey towards redefining the retail landscape. \nCONNECT\n\nNetwork with Singapore’s top retail leaders\, innovators\, and emerging brands. Build valuable relationships with industry experts driving the country’s retail transformation. \nINNOVATE\n\nDiscover advanced AI tools and digital integration solutions that are enhancing customer experiences in Singapore’s retail sector. Learn how to implement these innovations to boost operational efficiency. \nEXPLORE\n\nGain exclusive insights into Singapore’s latest consumer trends and market growth. Understand how local businesses are leveraging omnichannel strategies and e-commerce to stay competitive. \nGROW\n\nEquip your business with actionable strategies to thrive in Singapore’s highly competitive retail market. Leverage these insights to adapt to evolving consumer demands and drive long-term growth. \nRegister
URL:https://commerceincommon.com/events/retail-asia-summit-2025-singapore/
LOCATION:Farrer Hotel Singapore\, 1 Farrer Park Station Rd\, Singapore\, 217562\, Singapore
CATEGORIES:Free Tickets - Invite Only,Physical
END:VEVENT
BEGIN:VEVENT
DTSTART;TZID=Australia/Sydney:20250723T000000
DTEND;TZID=Australia/Sydney:20250724T235959
DTSTAMP:20260424T034433
CREATED:20250722T064139Z
LAST-MODIFIED:20250722T064139Z
UID:10000003-1753228800-1753401599@commerceincommon.com
SUMMARY:Online Retailer Australia
DESCRIPTION:Australia’s Largest Ecommerce Conference & Expo\nWelcome to Online Retailer Conference & Expo. \nWhere 3\,500+ industry leaders\, innovators\, and entrepreneurs come together to explore the latest trends and technologies shaping the future of ecommerce. Online Retailer offers the opportunity to network\, learn from 200+ expert speakers\, and discover cutting-edge solutions from 150+ providers\, all helping you drive your business forward. \nWhether you’re looking to optimise your ecommerce strategy\, enhance customer experience\, network with industry peers or stay ahead of the competition\, our conference and expo are designed to provide valuable insights and actionable takeaways for every online retailer. \nVisitor registration is only for retailers.
URL:https://commerceincommon.com/events/online-retailer-australia/
LOCATION:Sydney\, Sydney\, 2000\, Australia
CATEGORIES:Free Tickets Available,Paid tickets,Physical
END:VEVENT
END:VCALENDAR