BEGIN:VCALENDAR
VERSION:2.0
PRODID:-//Commerce in Common - ECPv6.15.20//NONSGML v1.0//EN
CALSCALE:GREGORIAN
METHOD:PUBLISH
X-ORIGINAL-URL:https://commerceincommon.com
X-WR-CALDESC:Events for Commerce in Common
REFRESH-INTERVAL;VALUE=DURATION:PT1H
X-Robots-Tag:noindex
X-PUBLISHED-TTL:PT1H
BEGIN:VTIMEZONE
TZID:Australia/Melbourne
BEGIN:STANDARD
TZOFFSETFROM:+1100
TZOFFSETTO:+1000
TZNAME:AEST
DTSTART:20250405T160000
END:STANDARD
BEGIN:DAYLIGHT
TZOFFSETFROM:+1000
TZOFFSETTO:+1100
TZNAME:AEDT
DTSTART:20251004T160000
END:DAYLIGHT
BEGIN:STANDARD
TZOFFSETFROM:+1100
TZOFFSETTO:+1000
TZNAME:AEST
DTSTART:20260404T160000
END:STANDARD
BEGIN:DAYLIGHT
TZOFFSETFROM:+1000
TZOFFSETTO:+1100
TZNAME:AEDT
DTSTART:20261003T160000
END:DAYLIGHT
BEGIN:STANDARD
TZOFFSETFROM:+1100
TZOFFSETTO:+1000
TZNAME:AEST
DTSTART:20270403T160000
END:STANDARD
BEGIN:DAYLIGHT
TZOFFSETFROM:+1000
TZOFFSETTO:+1100
TZNAME:AEDT
DTSTART:20271002T160000
END:DAYLIGHT
END:VTIMEZONE
BEGIN:VTIMEZONE
TZID:Australia/Sydney
BEGIN:STANDARD
TZOFFSETFROM:+1100
TZOFFSETTO:+1000
TZNAME:AEST
DTSTART:20250405T160000
END:STANDARD
BEGIN:DAYLIGHT
TZOFFSETFROM:+1000
TZOFFSETTO:+1100
TZNAME:AEDT
DTSTART:20251004T160000
END:DAYLIGHT
BEGIN:STANDARD
TZOFFSETFROM:+1100
TZOFFSETTO:+1000
TZNAME:AEST
DTSTART:20260404T160000
END:STANDARD
BEGIN:DAYLIGHT
TZOFFSETFROM:+1000
TZOFFSETTO:+1100
TZNAME:AEDT
DTSTART:20261003T160000
END:DAYLIGHT
BEGIN:STANDARD
TZOFFSETFROM:+1100
TZOFFSETTO:+1000
TZNAME:AEST
DTSTART:20270403T160000
END:STANDARD
BEGIN:DAYLIGHT
TZOFFSETFROM:+1000
TZOFFSETTO:+1100
TZNAME:AEDT
DTSTART:20271002T160000
END:DAYLIGHT
END:VTIMEZONE
BEGIN:VTIMEZONE
TZID:Asia/Singapore
BEGIN:STANDARD
TZOFFSETFROM:+0800
TZOFFSETTO:+0800
TZNAME:+08
DTSTART:20250101T000000
END:STANDARD
END:VTIMEZONE
BEGIN:VEVENT
DTSTART;TZID=Australia/Melbourne:20260728T000000
DTEND;TZID=Australia/Melbourne:20260729T235959
DTSTAMP:20260424T034337
CREATED:20251020T045826Z
LAST-MODIFIED:20251020T052624Z
UID:10000038-1785196800-1785369599@commerceincommon.com
SUMMARY:B2B eCommerce World Asia Pacific 2026 - Melbourne Australia
DESCRIPTION:Welcome to B2B eCommerce World Asia Pacific 2026\nThe Premier Event for Manufacturers & Distributors who want to succeed in eCommerce & Digital Transformation​\n\n\n\nJoin us in Melbourne for a dynamic two-day conference at B2B eCommerce World Asia Pacific. \nFeaturing transformative workshops\, exclusive networking opportunities\, and insightful sessions tailored for manufacturers and distributors\, this event will empower you to advance your digital strategy. \nCelebrate the industry’s finest at the B2B eCommerce Industry Awards 2026 and connect with leaders shaping the future of B2B eCommerce. \nDon’t miss this chance to elevate your digital journey! \n\n\nWho Should Attend\n\n\n\n\nB2B eCommerce World is a practitioner led conference designed for the following groups of professionals:\n\n\n\nDigital Teams\n\n\n\n\n\nLearn from real practitioners leading successful digital transformations in B2B.\nBenchmark your stack\, skills\, and strategy across peers in manufacturing and distribution.\nWalk away with playbooks\, toolkits\, and hands-on frameworks you can use Monday.\n\n\n\n\n\n\n\n\n\n\nCommercial Execs​\n\n\n\n\n\nUnderstand how digital channels are reshaping customer expectations and revenue strategy.\n\n\nExplore how your team can better align sales\, marketing\, and operations around eCommerce.\n\n\nConnect with other C-level and functional leaders tackling the same transformation agenda.\n\n\n\n\n\n\n\n\n\n\n\n\n\nIndustry Experts​\n\n\n\n\n\nMeet B2B professionals from enterprise and mid-market manufacturers and distributors.\nJoin conversations focused on real-world problems\, not just product features.\nBuild relationships in a no-pitch\, content-first environment that prioritises trust.\n\n\n\n\n\n\n\n\n\nLearn More
URL:https://commerceincommon.com/events/b2b-ecommerce-world-asia-pacific-2026-melbourne-australia/
LOCATION:Pullman Hotel\, Melboure\, 65 Queens Road Albert Park\, Melbourne\, Victoria\, 3004\, Australia
CATEGORIES:Paid tickets,Physical
ATTACH;FMTTYPE=image/jpeg:https://commerceincommon.com/wp-content/uploads/2025/08/B2B.jpg
END:VEVENT
BEGIN:VEVENT
DTSTART;TZID=Australia/Sydney:20260825T000000
DTEND;TZID=Australia/Sydney:20260825T235959
DTSTAMP:20260424T034337
CREATED:20251020T052550Z
LAST-MODIFIED:20251020T053326Z
UID:10000042-1787616000-1787702399@commerceincommon.com
SUMMARY:CX Summit APAC 2026 - Sydney Australia
DESCRIPTION:There’s A Reason Why APAC’s Top CX Minds Keep Coming Back\nCX\, B2C Marketing\, & Digital Business Leaders\n\n\nCX Summit APAC 2025 brought leaders across the Asia Pacific region together to redefine customer experience in a tech-forward\, hyper-competitive market. Centered on the theme “The Total Experience: Your Brand\, Their Journey\,” it provided attendees actionable strategies and new tools to help them stay ahead and reimagine the experience they deliver to customers. \nWho Should Attend\n\n\nCX Professionals: Develop next-level strategies to retain customers and demonstrate business impact through exceptional experiences.\nDigital Leaders: Harness cutting-edge technologies and AI to accelerate customer acquisition and improve engagement metrics.\nB2C Marketers: Cultivate customer loyalty by aligning your team’s strategies with your brand’s promise and uncovering powerful consumer insights.\n\nPrograms That Go Deeper\n\n\nExecutive Leadership Exchange: Join focused discussions aimed at generating meaningful outcomes in this by-invitation-only program for C-level executives.\nForrester Women’s Leadership Program: Build connections\, break barriers\, and elevate women in leadership roles.\nCustomer-Obsessed Enterprise Award: Gain regional recognition by showcasing your CX and marketing breakthroughs.\nBonus Digital Content: Unlock access to prerecorded sessions and keynotes from Forrester’s global events in North America and EMEA.\n\n\n\n\n\n\n\n\n\n\n\n\n\n\nRegister
URL:https://commerceincommon.com/events/cx-summit-apac-2026-sydney-australia/
LOCATION:Sheraton Grand Sydney Hyde Park\, 161 Elizabeth Street\, Sydney\, NSW\, 2000\, Australia
CATEGORIES:Paid tickets,Physical,Virtual
ATTACH;FMTTYPE=image/webp:https://commerceincommon.com/wp-content/uploads/2025/10/forrester.webp
END:VEVENT
BEGIN:VEVENT
DTSTART;TZID=Asia/Singapore:20260922T000000
DTEND;TZID=Asia/Singapore:20260923T235959
DTSTAMP:20260424T034337
CREATED:20250812T033249Z
LAST-MODIFIED:20250812T033305Z
UID:10000019-1790035200-1790207999@commerceincommon.com
SUMMARY:eTail Australia Interactive - Melbourne Australia
DESCRIPTION:
URL:https://commerceincommon.com/events/etail-australia-interactive-melbourne-australia/
LOCATION:Pullman Hotel\, Melboure\, 65 Queens Road Albert Park\, Melbourne\, Victoria\, 3004\, Australia
CATEGORIES:Free Tickets - Invite Only,Physical
END:VEVENT
BEGIN:VEVENT
DTSTART;TZID=Asia/Singapore:20260930T000000
DTEND;TZID=Asia/Singapore:20261002T235959
DTSTAMP:20260424T034337
CREATED:20250721T091032Z
LAST-MODIFIED:20250820T055236Z
UID:10000001-1790726400-1790985599@commerceincommon.com
SUMMARY:iMedia Retail Summit  South East Asia - Penang
DESCRIPTION:  \nRetail’s most valuable connections are coming to Southeast Asia!\nThis exclusive\, invitation-only retail summit is where decision-makers meet\, real conversations happen\, and powerful partnerships are established. \nOver 2.5 days\, thought leadership sessions will cover the latest retail innovations\, trends\, technologies\, and solutions\, featuring key opinion leaders and experts discussing the behavioural and economic impacts shaping the retail industry across the region. Strategically curated networking opportunities complement the agenda\, bringing the best Southeast Asian eCommerce leaders from enterprise-level retailers together with some of the industry’s top-performing technology and solution providers. \nLearn\, connect and be inspired. \n\n\nThe iMedia Retail Summit SEA will cover the all-important topics\, issues\, trends and discussions happening in retail today. \n– Roundtable Sessions between retail leaders of brands and those supporting retail with technology or solutions platforms. \n– Global and local keynote speakers delivering content to cover all the latest issues\, trends and forecasts. \n– Case study presentations from leading eCommerce support businesses such as: Commercetools\, ShopifyPlus\, Adyen\, Adobe\, Forter\, The Trade Desk\, Fullstory and Dot Digital. \nHot topics\nRetail leaders will moderate conversations during our popular\nRoundtable session on topics such as: \n \n  \n\n\nLearn More
URL:https://commerceincommon.com/events/imedia-retail-summit-south-east-asia/
LOCATION:Angsana Teluk Bahang\, Penang\, Malaysia\, Penang\, Malaysia
CATEGORIES:Free Tickets - Invite Only,Physical
ATTACH;FMTTYPE=image/png:https://commerceincommon.com/wp-content/uploads/2025/07/Untitled-design-7.png
END:VEVENT
BEGIN:VEVENT
DTSTART;TZID=Asia/Singapore:20261007T000000
DTEND;TZID=Asia/Singapore:20261010T235959
DTSTAMP:20260424T034337
CREATED:20251020T051426Z
LAST-MODIFIED:20251020T051426Z
UID:10000040-1791331200-1791676799@commerceincommon.com
SUMMARY:The Asia-Pacific Retailers Convention & Exhibition2026 - Tokyo
DESCRIPTION:The Future of Retail: Innovation Meets Tradition\nAsia-Pacific’s Premier Retail Gathering \n \nThe 22nd Asia-Pacific Retailers Convention & Exhibition (APRCE) returns to Tokyo from October 7–10\, 2026\, hosted by the Japan Retailers Association and FAPRA. With the theme “The Future of Retail: Innovation Meets Tradition\,” this biennial event brings together retail leaders from 18 countries to explore industry trends\, digital transformation\, and regional insights. \nHighlights include: \n\nConvention & Keynotes at Tokyo International Forum\nRetail Expo Tokyo 2026 showcasing cutting-edge products and services\nBreakout sessions\, country reports\, and study tours\nNetworking events at Tokyo Kaikan and Grand Prince Hotel Shin Takanawa\n\nAPRCE has been shaping retail dialogue since 1983—this year’s edition promises to blend global innovation with Japan’s rich retail heritage. \nLearn More
URL:https://commerceincommon.com/events/the-asia-pacific-retailers-convention-exhibition2026-tokyo/
LOCATION:Tokyo\, Tokyo\, Japan
CATEGORIES:Physical
END:VEVENT
END:VCALENDAR