BEGIN:VCALENDAR
VERSION:2.0
PRODID:-//Commerce in Common - ECPv6.15.20//NONSGML v1.0//EN
CALSCALE:GREGORIAN
METHOD:PUBLISH
X-ORIGINAL-URL:https://commerceincommon.com
X-WR-CALDESC:Events for Commerce in Common
REFRESH-INTERVAL;VALUE=DURATION:PT1H
X-Robots-Tag:noindex
X-PUBLISHED-TTL:PT1H
BEGIN:VTIMEZONE
TZID:Asia/Singapore
BEGIN:STANDARD
TZOFFSETFROM:+0800
TZOFFSETTO:+0800
TZNAME:+08
DTSTART:20240101T000000
END:STANDARD
END:VTIMEZONE
BEGIN:VEVENT
DTSTART;TZID=Asia/Singapore:20251119T000000
DTEND;TZID=Asia/Singapore:20251119T235959
DTSTAMP:20260423T214926
CREATED:20251020T042006Z
LAST-MODIFIED:20251020T042006Z
UID:10000037-1763510400-1763596799@commerceincommon.com
SUMMARY:Global Virtual Martech Summit - APAC 2025
DESCRIPTION:Beyond the Buzz: AI That Drives Growth\nThis summit is designed for senior-level MarTech & Marketing professionals in functions such as: \nAI in Marketing | AI Strategy & Innovation | Prompt Engineering | Chatbot Developing | Customer Experience | Predictive Modelling | AI in CRM & Retention | GenAI | Machine Learning | Digital Transformation | Privacy & Ethics | Marketing Automation | Personalisation | AI-Driven Analytics & Insights \nLeveraging expertise in Marketing & MarTech\, we will spotlight handpicked AI innovations and practical use cases that have delivered tangible business results\, with a focus on measurable impact rather than speculation. \n\n+1000 Attendees\n40+ Speakers\n7+ Hours of streamed content\n15+ Content Sessions\n\n  \nWhat’s Different: \n\nAI Experts\, Unfiltered Speakers\nLive streaming and Live Interaction\nHot topics & new voices\n\n 
URL:https://commerceincommon.com/events/global-virtual-martech-summit-apac-2025/
LOCATION:
CATEGORIES:Free Tickets Available,Virtual
END:VEVENT
BEGIN:VEVENT
DTSTART;TZID=Asia/Singapore:20251119T000000
DTEND;TZID=Asia/Singapore:20251121T235959
DTSTAMP:20260423T214926
CREATED:20250825T140846Z
LAST-MODIFIED:20250825T140846Z
UID:10000033-1763510400-1763769599@commerceincommon.com
SUMMARY:DigiTech ASEAN - Bangkok Thailand
DESCRIPTION:Digital Solutions for Business\nYour Southeast Asian face-to-face “Digital Solutions for Business” exhibition and networking platform to connect with the global tech and digital markets \n350+ EXHIBITORS AND 8\,000+ TRADE ATTENDEES/BUYERS\n  \n\n\n\n\n\nYour Southeast Asian face-to-face “Digital Solutions for Business” exhibition and networking platform to connect with the global tech and digital markets\nConferences\nChallenges\, Trends & Market Opportunities \nTechnology Presentation\nTechnology\, Industry\, Business Development ideas & Trends \nWorkshops\nKnowledge & skill developments\, Best practices\, Masterclasses \nCertification Courses\nDigital Skills upgrades and knowledge \nBusiness Matching Program\nPre-Arranged Business Matching meetings between buyers & exhibitors \nWebinars\nMonthly technology webinars during run up to the event\, & after event
URL:https://commerceincommon.com/events/digitech-asean-bangkok-thailand/
LOCATION:IMPACT Exhibition & Convention Centre\, IMPACT Exhibition Center Building Popular Rd\, Bangkok\, 11120\, Thailand
CATEGORIES:Free Tickets Available,Physical
END:VEVENT
END:VCALENDAR