BEGIN:VCALENDAR
VERSION:2.0
PRODID:-//Commerce in Common - ECPv6.15.20//NONSGML v1.0//EN
CALSCALE:GREGORIAN
METHOD:PUBLISH
X-ORIGINAL-URL:https://commerceincommon.com
X-WR-CALDESC:Events for Commerce in Common
REFRESH-INTERVAL;VALUE=DURATION:PT1H
X-Robots-Tag:noindex
X-PUBLISHED-TTL:PT1H
BEGIN:VTIMEZONE
TZID:Asia/Singapore
BEGIN:STANDARD
TZOFFSETFROM:+0800
TZOFFSETTO:+0800
TZNAME:+08
DTSTART:20240101T000000
END:STANDARD
END:VTIMEZONE
BEGIN:VEVENT
DTSTART;TZID=Asia/Singapore:20250916T000000
DTEND;TZID=Asia/Singapore:20250917T235959
DTSTAMP:20260426T033358
CREATED:20250804T040926Z
LAST-MODIFIED:20250820T091049Z
UID:10000014-1757980800-1758153599@commerceincommon.com
SUMMARY:SVOLUTION Digital Summit 2026 - Bali
DESCRIPTION:THE ULTIMATE AI EVENT\n Hear 3\,000 DIGITAL ENTREPRENEURS LEARN TO MONETIZE AI-POWERED COMMERCE\nJoin the top digital entrepreneurs\, affiliates\, creators\, coaches\, and marketers for 3 days of AI tools\, proven funnels\, tactical playbooks\, and once-in-a-lifetime networking in the heart of Bali\, Indonesia. \n\n\n\nAI Funnels & Conversion with Marketing Psychology Architecture\n\n\n\n\n\n\nLearn how to engineer AI-powered funnels that convert cold traffic using time-tested persuasion\, psychology\, and automation \n\n\n\n\n\n\n\n\n\nScalable Creative Content with AI Automation\n\n\n\n\n\n\nSystemize short-form\, long-form\, and UGC-style content creation with tools and workflows that make going viral a repeatable process. \n\n\n\n\n\n\n\n\n\n\n\n\n\n\n\n\n\nHigh-Impact VSLs & Storytelling for Product Sales\n\n\n\n\n\n\nBreak down 7-figure video sales letters (VSLs) and storytelling frameworks that sell on autopilot\, even while you sleep. \n\n\n\n\n\n\n\n\n\n\n\n\n\n\n\n\n\n\n\n\n\n\n\n\n\n\n\n\n\nMeta Ads Secrets & Scaling Strategies for 2025 and Beyond\n\n\n\n\n\n\nTap into cutting-edge targeting\, automation rules\, and campaign structures that scale profitably with AI enhancements. \n\n\n\n\n\n\n\n\n\n\n\n\n\n\n\n\n\n\n\n\n\n\n\n\n\n\n\n\n\n\n\n\n\n\n\n\n\n\n\n\n\nGrowth Hacking with TikTok: Trends & Tactics\n\n\n\n\n\n\nUnlock the latest TikTok growth playbooks\, UGC strategies\, and content angles that are fueling today’s biggest breakout brands. \n\n\n\n\n\n\n\n\n\n\n\n\n\n\n\n\n\n\n\n\n\n\n\n\n\n\n\n\n\n\n\n\n\n\n\n\n\n\n\n\n\n\n\n\n\n\n\n\n\n\n\n\n\nAI Agents & Automation for 24/7 Sales\n\n\n\n\n\n\nDeploy AI chat agents\, CRM flows\, and automation sequences that follow up\, nurture\, and close around the clock. \n\n\n\n\n\n\n\n\n\n\n\n\n\n\n\n\n\n\n\n\n\n\n\n\n\n\n\n\n\n\n\n\n\n\n\n\n\n\n\n\n\n\n\n\n\n\n\n\n\n\n\n\n\n\n\n\n\n\n\n\n\n\n\n\n\nDeep Brand vs. Dropship: Building Long-Term Equity\n\n\n\n\n\n\nExplore the real differences between quick-cash models vs. brand-building with AI\, and how to transition from hustle to equity. \n\n\n\n\n\n\n\n\n\n\n\n\n\n\n\n\n\n\n\n\n\n\n\n\n\n\n\n\n\n\n\n\n\n\n\n\n\n\n\n\n\n\nThe Future of Affiliate Ecosystem\n\n\n\n\n\n\nDiscover what’s working right now in white-hat affiliate marketing\, native traffic\, and new partnership-driven growth models. \n\n\n\n\n\n\n\n\n\n\n\n\n\n\nMonetizing Digital Entrepreneurs with AI Commerce\n\n\n\n\n\n\nSee how thought leaders\, creators\, and solopreneurs are building revenue-generating ecosystems with smart AI tools and community. \nLearn More
URL:https://commerceincommon.com/events/svolution-digital-summit/
LOCATION:Nusa Dua Convention Center\, Bali\, Kawasan Pariwisata Nusa Dua Lot NW/1\, Bali\, Kabupaten Badung\, 80363\, Indonesia
CATEGORIES:Paid tickets,Physical
ATTACH;FMTTYPE=image/jpeg:https://commerceincommon.com/wp-content/uploads/2025/08/Untitled-design.jpg
END:VEVENT
END:VCALENDAR