BEGIN:VCALENDAR
VERSION:2.0
PRODID:-//Commerce in Common - ECPv6.15.20//NONSGML v1.0//EN
CALSCALE:GREGORIAN
METHOD:PUBLISH
X-ORIGINAL-URL:https://commerceincommon.com
X-WR-CALDESC:Events for Commerce in Common
REFRESH-INTERVAL;VALUE=DURATION:PT1H
X-Robots-Tag:noindex
X-PUBLISHED-TTL:PT1H
BEGIN:VTIMEZONE
TZID:Asia/Singapore
BEGIN:STANDARD
TZOFFSETFROM:+0800
TZOFFSETTO:+0800
TZNAME:+08
DTSTART:20240101T000000
END:STANDARD
END:VTIMEZONE
BEGIN:VTIMEZONE
TZID:America/New_York
BEGIN:DAYLIGHT
TZOFFSETFROM:-0500
TZOFFSETTO:-0400
TZNAME:EDT
DTSTART:20250309T070000
END:DAYLIGHT
BEGIN:STANDARD
TZOFFSETFROM:-0400
TZOFFSETTO:-0500
TZNAME:EST
DTSTART:20251102T060000
END:STANDARD
BEGIN:DAYLIGHT
TZOFFSETFROM:-0500
TZOFFSETTO:-0400
TZNAME:EDT
DTSTART:20260308T070000
END:DAYLIGHT
BEGIN:STANDARD
TZOFFSETFROM:-0400
TZOFFSETTO:-0500
TZNAME:EST
DTSTART:20261101T060000
END:STANDARD
BEGIN:DAYLIGHT
TZOFFSETFROM:-0500
TZOFFSETTO:-0400
TZNAME:EDT
DTSTART:20270314T070000
END:DAYLIGHT
BEGIN:STANDARD
TZOFFSETFROM:-0400
TZOFFSETTO:-0500
TZNAME:EST
DTSTART:20271107T060000
END:STANDARD
END:VTIMEZONE
BEGIN:VTIMEZONE
TZID:Australia/Sydney
BEGIN:STANDARD
TZOFFSETFROM:+1100
TZOFFSETTO:+1000
TZNAME:AEST
DTSTART:20240406T160000
END:STANDARD
BEGIN:DAYLIGHT
TZOFFSETFROM:+1000
TZOFFSETTO:+1100
TZNAME:AEDT
DTSTART:20241005T160000
END:DAYLIGHT
BEGIN:STANDARD
TZOFFSETFROM:+1100
TZOFFSETTO:+1000
TZNAME:AEST
DTSTART:20250405T160000
END:STANDARD
BEGIN:DAYLIGHT
TZOFFSETFROM:+1000
TZOFFSETTO:+1100
TZNAME:AEDT
DTSTART:20251004T160000
END:DAYLIGHT
BEGIN:STANDARD
TZOFFSETFROM:+1100
TZOFFSETTO:+1000
TZNAME:AEST
DTSTART:20260404T160000
END:STANDARD
BEGIN:DAYLIGHT
TZOFFSETFROM:+1000
TZOFFSETTO:+1100
TZNAME:AEDT
DTSTART:20261003T160000
END:DAYLIGHT
END:VTIMEZONE
BEGIN:VEVENT
DTSTART;TZID=Asia/Singapore:20260324T000000
DTEND;TZID=Asia/Singapore:20260325T235959
DTSTAMP:20260421T163128
CREATED:20250722T094819Z
LAST-MODIFIED:20251020T041224Z
UID:10000009-1774310400-1774483199@commerceincommon.com
SUMMARY:eTail Asia 2026 - Singapore
DESCRIPTION:Asia’s Premier eCommerce & Digital Marketing Retail Summit\nThe eCommerce & Omnichannel Conference For APAC Retailers\n\nWe’re excited to announce that the 14th Annual eTail Asia Summit will return in March 2026! \nAs a market leading annual meeting place for Asia’s top retail leaders\, eTail Asia brings you the opportunity to learn from\, network and collaborate with some of the most innovative Founders\, CEOs\, CMOs\, Heads of eCommerce and Digital Marketing Leaders in Asia (and other countries\, due to eTail’s global footprint). \nFor 2025\, we shook things up with: \n\n\n\nInspiring keynotes from Asia’s top retail brands\, covering loyalty innovation\, the untapped potential of in-store retail media\, Gen AI-driven video content\, and the art and science of A/B testing.\nInsightful panels and fireside chats exploring critical topics from the illusion of efficiency to retail media strategies\, metrics that matter\, cross-border growth\, differentiation strategies\, and the shift from hyper-growth to sustainable profitability.\nCandid conversations on Gen AI\, channel cannibalisation\, and the ongoing battle between efficiency and effectiveness in retail featuring bold perspectives from industry leaders.\nSolution rooms and roundtables tackling niche challenges in luxury retail and offering practical Gen AI applications you can take back to your business.\nFresh perspectives on unconventional partnerships\, founder journeys\, digital shelf wins\, and how Gen Alpha is shaping the future of retail.\nA first-of-its-kind\, retailer-led showcase\, where trailblazing brands revealed groundbreaking innovations in creativity\, product development\, and tech-driven retail.\nGuided networking and curated icebreakers that sparked meaningful connections and conversations with industry peers.\n\n\n\n\n \nSome of the key topics this year:\n\n\nIntelligent forecasting – How can you leverage AI\, real-time data\, scenario modeling\, and adaptive planning frameworks\n\n\nCreating a “WOW factor” to differentiate in a price-sensitive market\n\n\nCrafting adaptive retail journeys in the age of smart shopping\n\n\nD2C 3.0 – Reclaiming Margin Through Smarter D2C\n\n\nThe Rise of Generative Engine Optimization (GEO) – The Future of Product Discovery\n\n\nFrom Silos to Scale: Building End-to-End AI for Real ROI\n\n\nLearn More
URL:https://commerceincommon.com/events/etail-asia-2026/
LOCATION:Equarius Hotel\, Singapore\, 8 Sentosa Gateway\, 098269\, Singapore
CATEGORIES:Free Tickets Available,Physical
ATTACH;FMTTYPE=image/png:https://commerceincommon.com/wp-content/uploads/2025/07/Untitled-design-5.png
END:VEVENT
BEGIN:VEVENT
DTSTART;TZID=Asia/Singapore:20260318T000000
DTEND;TZID=Asia/Singapore:20260319T235959
DTSTAMP:20260421T163128
CREATED:20250922T043115Z
LAST-MODIFIED:20250922T043115Z
UID:10000034-1773792000-1773964799@commerceincommon.com
SUMMARY:Retail Fulfilment Show 2026 - Melbourne Australia
DESCRIPTION:Leading the next wave of fulfilment transformation and growth\n\n\n1000+ Attendees\n100+ Speakers\n80+ Partners\n4 Streams\n\nAustralia’s leading Retail fulfilment Show returns in 2026 with a renewed focus on growth\, innovation and resilience in the face of rising operational costs and shifting consumer expectations.\n\nAkolade’s Retail Fulfilment Show is where retail\, eCommerce\, logistics\, and supply chain leaders come together to transform their fulfilment models for speed\, scale\, and sustainability. \nThis is more than just a logistics event\, it’s a summit for strategic retail transformation. From data driven inventory planning and last mile innovation to risk management\, compliance and customer centric eCommerce\, this is your opportunity to benchmark against industry leaders\, gain future ready insights and build partnerships that drive meaningful outcomes. \n\nSmarter eCommerce\n\nInventory and Warehouse Intelligence\nNext Gen Last Mile\nRisk\, Resilience and Compliance\n\n\n\n\nAttend to this summit and learn how to:\n\n\n\n\n\n\n\n\nFuture-proofing fulfilment through tech\, data and scalable innovation\nBoosting retention and conversion across the customer journey through effective eCommerce strategie\nDriving profitability through accurate forecasting\, smarter inventory and warehouse efficiency\nDelivering faster and smarter while cutting costs in the last mile\nBuilding resilient fulfillment models to navigate costs\, complexity and compliance\n\nLearn More
URL:https://commerceincommon.com/events/retail-fulfilment-show-2026-melbourne-australia/
LOCATION:Melboure Convention & Exhibition Hall\, 1 Convention Centre Pl\, South Wharf\, Melbourne\, Vic\, 3006\, Australia
CATEGORIES:Free Tickets Available,Physical
END:VEVENT
BEGIN:VEVENT
DTSTART;TZID=America/New_York:20260111T000000
DTEND;TZID=America/New_York:20260113T235959
DTSTAMP:20260421T163128
CREATED:20250722T065310Z
LAST-MODIFIED:20250808T100229Z
UID:10000005-1768089600-1768348799@commerceincommon.com
SUMMARY:NRF 2026 Retails Big Show - New York USA
DESCRIPTION:NRF 2026: Retail’s Big Show — The Next Now Starts Here\nFrom January 11–13\, 2026\, New York City becomes the epicenter of global retail innovation as NRF 2026: Retail’s Big Show returns with unmatched energy\, insight\, and opportunity. This is not just a conference—it’s a launchpad for what’s next in retail. \nWith the theme “The Next Now\,” NRF 2026 brings together the world’s top retail leaders\, visionary thinkers\, and cutting-edge solution providers. Attendees will experience: \n\nPriceless connections through curated networking events and peer meetups\nPractical education from inspiring keynotes\, data-driven sessions\, and hands-on workshops\nFuturistic solutions showcased across a booming Expo floor featuring the latest in AI\, agentic technologies\, and customer experience innovation\n\nThis year introduces the AI Stage\, a masterclass in integrating artificial intelligence into retail strategy—open to all All-Access Pass holders. Whether you’re navigating digital transformation\, exploring omnichannel growth\, or reimagining customer engagement\, NRF 2026 offers the tools\, insights\, and partnerships to accelerate your journey. \nExpect to hear from iconic speakers like Walmart’s John Furner\, Target’s Brian Cornell\, and Sephora’s Artemis Patrick\, alongside founders and CEOs from across fashion\, tech\, and finance. \nIf you’re serious about shaping the future of retail\, NRF 2026 is where you need to be. Join thousands of decision-makers from over 100 countries and be part of the movement that’s redefining commerce. \nExplore the full agenda and register now.
URL:https://commerceincommon.com/events/nrf-26-retails-big-show/
LOCATION:Javits Convention Center\, 429 11th Ave\, New York\, NY\, 10001\, United States
CATEGORIES:Free Tickets Available,Paid tickets,Physical
END:VEVENT
BEGIN:VEVENT
DTSTART;TZID=Asia/Singapore:20251119T000000
DTEND;TZID=Asia/Singapore:20251121T235959
DTSTAMP:20260421T163128
CREATED:20250825T140846Z
LAST-MODIFIED:20250825T140846Z
UID:10000033-1763510400-1763769599@commerceincommon.com
SUMMARY:DigiTech ASEAN - Bangkok Thailand
DESCRIPTION:Digital Solutions for Business\nYour Southeast Asian face-to-face “Digital Solutions for Business” exhibition and networking platform to connect with the global tech and digital markets \n350+ EXHIBITORS AND 8\,000+ TRADE ATTENDEES/BUYERS\n  \n\n\n\n\n\nYour Southeast Asian face-to-face “Digital Solutions for Business” exhibition and networking platform to connect with the global tech and digital markets\nConferences\nChallenges\, Trends & Market Opportunities \nTechnology Presentation\nTechnology\, Industry\, Business Development ideas & Trends \nWorkshops\nKnowledge & skill developments\, Best practices\, Masterclasses \nCertification Courses\nDigital Skills upgrades and knowledge \nBusiness Matching Program\nPre-Arranged Business Matching meetings between buyers & exhibitors \nWebinars\nMonthly technology webinars during run up to the event\, & after event
URL:https://commerceincommon.com/events/digitech-asean-bangkok-thailand/
LOCATION:IMPACT Exhibition & Convention Centre\, IMPACT Exhibition Center Building Popular Rd\, Bangkok\, 11120\, Thailand
CATEGORIES:Free Tickets Available,Physical
END:VEVENT
BEGIN:VEVENT
DTSTART;TZID=Asia/Singapore:20251008T000000
DTEND;TZID=Asia/Singapore:20251009T235959
DTSTAMP:20260421T163128
CREATED:20250722T071214Z
LAST-MODIFIED:20250808T082306Z
UID:10000006-1759881600-1760054399@commerceincommon.com
SUMMARY:eCommerce Expo | DMEXCO Asia - Singapore
DESCRIPTION:Bringing together eCommerce & Digital Marketing\nA holistic end-to-end commerce playbook\nCloserStill Media\, Koelnmesse\, and BVDW proudly announce the launch of DMEXCO Asia and partnership with eCommerce Expo at Tech Week Singapore. The co-branded eCommerce Expo | DMEXCO Asia event will be premiering in the dynamic Southeast Asian hub of Singapore on 8-9 October 2025. \nJoin us in 2025 and seize the opportunity to connect with a rapidly growing audience eager for the latest solutions. Gain unparalleled access to key decision-makers\, learn from industry leaders and forge industry partnerships to secure your organisation’s success. \nPart of Tech Week Singapore\neCommerce Expo | DMEXCO Asia is part of Tech Week Singapore\, presented by CloserStill Media\, bringing together six leading technology events: Cloud & AI Infrastructure\, DevOps Live Asia\, Cyber Security World\, Big Data & AI World\, Data Centre World Asia\, and eCommerce Expo | DMEXCO Asia taking place at Marina Bay Sands\, Singapore from 8th to 9th October 2025. \nRegister
URL:https://commerceincommon.com/events/109/
LOCATION:Sands Expo & Convention Centre\, 10 Bayfront Ave\, Singapore\, 018956\, Singapore
CATEGORIES:Free Tickets Available,Physical
ATTACH;FMTTYPE=image/png:https://commerceincommon.com/wp-content/uploads/2025/07/Untitled-design-3.png
END:VEVENT
BEGIN:VEVENT
DTSTART;TZID=Asia/Singapore:20250923T000000
DTEND;TZID=Asia/Singapore:20250924T235959
DTSTAMP:20260421T163128
CREATED:20250812T032842Z
LAST-MODIFIED:20250812T032842Z
UID:10000018-1758585600-1758758399@commerceincommon.com
SUMMARY:eTail Connect Australia - Melbourne
DESCRIPTION:POWER YOUR GROWTH\neTail Connect is an exclusive\, invite-only event where senior retail leaders forge powerful connections and gain the insights needed to drive innovation and growth.\nTailored Dialogue. Extraordinary Voices. Closed door discussions\, real-world lessons\, and ideas you can act on. \n\n\n\nEligibility Criteria\n\n\n\nAttendees are senior eCommerce\, Digital Marketing\, Customer Experience executives\, selected based on their leadership roles to foster meaningful peer-to-peer interaction. \nTo qualify you must be an eCommerce/digital marketing decision maker of a retail brand\, plus have a clear budget allocated for investing in omnichannel solutions in the next 12 months.
URL:https://commerceincommon.com/events/etail-connect-australia-melbourne/
LOCATION:Grand Hyatt Melbourne\, 123 Collins St\, Melbourne\, VIC\, 3000\, Australia
CATEGORIES:Free Tickets - Invite Only,Physical
END:VEVENT
BEGIN:VEVENT
DTSTART;TZID=Asia/Singapore:20250910T000000
DTEND;TZID=Asia/Singapore:20250910T235959
DTSTAMP:20260421T163128
CREATED:20250812T025729Z
LAST-MODIFIED:20250812T025729Z
UID:10000017-1757462400-1757548799@commerceincommon.com
SUMMARY:Big Commerce - Big Summit 2025 APAC - Sydney
DESCRIPTION:BigSummit is where the best in experience-driven commerce and technology meets industry leaders\, innovators\, and disruptors. \nWhat to expect \n\n\n\n\nEXCLUSIVE CONTENT \n\n\n\n\n\n\n\n\nHear from industry thought leaders and experts\, plus get an exclusive first look at our product roadmap \nTAILORED SESSIONS \nChoose from our Ecommerce and Marketing tracks to gain the relevant insights your business needs \nAWARDS AND CELEBRATION \nJoin us for our partner and customer award ceremonies \nPEER NETWORKING \n\n\n\n\n\n\n\nConnect with our community of industry executives\, ecommerce visionaries\, and digital disruptors \n\n\n\n\n\n\n\n\n\n\nLearn More
URL:https://commerceincommon.com/events/big-commerce-big-summit-2025-apac-sydney/
LOCATION:ACO on  Pier\, Suite 3/13A Hickson Rd\, Dawes Point Sydney\, NSW\, 2000\, Australia
CATEGORIES:Free Tickets Available,Physical
END:VEVENT
BEGIN:VEVENT
DTSTART;TZID=Asia/Singapore:20250821T000000
DTEND;TZID=Asia/Singapore:20250821T235959
DTSTAMP:20260421T163128
CREATED:20250812T040243Z
LAST-MODIFIED:20250812T040243Z
UID:10000023-1755734400-1755820799@commerceincommon.com
SUMMARY:Personalization Pioneers - Unfiltered - 2025 Singapore
DESCRIPTION:Without risk\, there’s no reward\nPresented by Dynamic Yield. \nWHAT WE MEAN BY UNFILTERED\nThis year\, we’re getting candid about the chaos that is personalization in flux\, because success isn’t linear (or always pretty)\, and growth comes from all of the important stuff that happens in between – if we’re bold enough to face it. \nJoin a community of innovators and optimizers as they unveil daring experiments\, unexpected outcomes\, and the learnings that made them stronger along their ongoing and iterative journey with personalization. \nWHY JOIN THE MOVEMENT?\nBreak free from the ordinary\nThis event is about challenging the norms and embracing unfiltered truths. As a digital professional\, you’ll gain fresh\, fearless perspectives on navigating uncharted territories in a rapidly evolving industry. You’ll leave with the tools and inspiration to disrupt outdated practices and redefine success in your field. \nReal stories and real solutions\nExpect authentic\, unpolished insights from industry leaders and peers who’ve navigated the messy realities of digital transformation. Through keynotes\, roundtables\, and workshops\, you’ll explore raw\, actionable strategies for overcoming challenges and adapting to unexpected outcomes in A/B testing\, CRO\, and personalization. \nUnleash your creativity\nWith interactive sessions designed to peel back the layers and get messy\, you’ll be pushed to think differently\, experiment boldly\, and embrace imperfection as a catalyst for innovation. This is your chance to collaborate\, problem-solve\, and spark breakthrough ideas with like-minded digital trailblazers.
URL:https://commerceincommon.com/events/personalization-pioneers-unfiltered-2025-singapore/
LOCATION:RASA Space\, 9 Raffles Place #02-01\, Tower\, #1 Republic Plaza\, Singapore\, 048619\, Singapore
END:VEVENT
BEGIN:VEVENT
DTSTART;TZID=Australia/Sydney:20250723T000000
DTEND;TZID=Australia/Sydney:20250724T235959
DTSTAMP:20260421T163128
CREATED:20250722T064139Z
LAST-MODIFIED:20250722T064139Z
UID:10000003-1753228800-1753401599@commerceincommon.com
SUMMARY:Online Retailer Australia
DESCRIPTION:Australia’s Largest Ecommerce Conference & Expo\nWelcome to Online Retailer Conference & Expo. \nWhere 3\,500+ industry leaders\, innovators\, and entrepreneurs come together to explore the latest trends and technologies shaping the future of ecommerce. Online Retailer offers the opportunity to network\, learn from 200+ expert speakers\, and discover cutting-edge solutions from 150+ providers\, all helping you drive your business forward. \nWhether you’re looking to optimise your ecommerce strategy\, enhance customer experience\, network with industry peers or stay ahead of the competition\, our conference and expo are designed to provide valuable insights and actionable takeaways for every online retailer. \nVisitor registration is only for retailers.
URL:https://commerceincommon.com/events/online-retailer-australia/
LOCATION:Sydney\, Sydney\, 2000\, Australia
CATEGORIES:Free Tickets Available,Paid tickets,Physical
END:VEVENT
END:VCALENDAR