BEGIN:VCALENDAR
VERSION:2.0
PRODID:-//Commerce in Common - ECPv6.15.20//NONSGML v1.0//EN
CALSCALE:GREGORIAN
METHOD:PUBLISH
X-ORIGINAL-URL:https://commerceincommon.com
X-WR-CALDESC:Events for Commerce in Common
REFRESH-INTERVAL;VALUE=DURATION:PT1H
X-Robots-Tag:noindex
X-PUBLISHED-TTL:PT1H
BEGIN:VTIMEZONE
TZID:Asia/Singapore
BEGIN:STANDARD
TZOFFSETFROM:+0800
TZOFFSETTO:+0800
TZNAME:+08
DTSTART:20250101T000000
END:STANDARD
END:VTIMEZONE
BEGIN:VEVENT
DTSTART;TZID=Asia/Singapore:20260429T080000
DTEND;TZID=Asia/Singapore:20260429T190000
DTSTAMP:20260419T200913
CREATED:20251020T052034Z
LAST-MODIFIED:20251020T052118Z
UID:10000041-1777449600-1777489200@commerceincommon.com
SUMMARY:7th Digital Marketing\, Advertising & Technology Conference - 2026  Malaysia
DESCRIPTION:Where Digital Strategy Meets Innovation\n \nOn April 29\, 2026\, Malaysia will host the 7th DMAT Conference\, a global gathering of marketers\, tech leaders\, and digital innovators. Organized by DigitalConfex\, this one-day event dives into the future of AI-driven marketing\, voice and visual search\, Web3\, privacy-first strategies\, and immersive content. \nExpect: \n\nKeynotes on AI\, creative intelligence\, and digital vision\nPanels on martech\, adtech\, automation\, and post-cookie engagement\nSessions on influencer economy\, localization\, and women in digital leadership\nNetworking\, tech demos\, and the DMAT Excellence Awards\n\n \nThis flagship event is a must-attend for marketers\, tech leaders\, and digital innovators eager to explore the future of AI-driven marketing\, hyper-personalized customer experiences\, voice & visual search\, omnichannel strategies\, Web3\, NFTs\, privacy-first marketing\, MarTech & AdTech breakthroughs\, performance analytics\, and immersive content experiences. \nLearn More
URL:https://commerceincommon.com/events/7th-digital-marketing-advertising-technology-conference-2026-malaysia/
LOCATION:Malaysia\, Malaysia
END:VEVENT
END:VCALENDAR