BEGIN:VCALENDAR
VERSION:2.0
PRODID:-//Commerce in Common - ECPv6.15.20//NONSGML v1.0//EN
CALSCALE:GREGORIAN
METHOD:PUBLISH
X-ORIGINAL-URL:https://commerceincommon.com
X-WR-CALDESC:Events for Commerce in Common
REFRESH-INTERVAL;VALUE=DURATION:PT1H
X-Robots-Tag:noindex
X-PUBLISHED-TTL:PT1H
BEGIN:VTIMEZONE
TZID:Asia/Jakarta
BEGIN:STANDARD
TZOFFSETFROM:+0700
TZOFFSETTO:+0700
TZNAME:WIB
DTSTART:20250101T000000
END:STANDARD
END:VTIMEZONE
BEGIN:VTIMEZONE
TZID:Asia/Singapore
BEGIN:STANDARD
TZOFFSETFROM:+0800
TZOFFSETTO:+0800
TZNAME:+08
DTSTART:20240101T000000
END:STANDARD
END:VTIMEZONE
BEGIN:VTIMEZONE
TZID:Asia/Bangkok
BEGIN:STANDARD
TZOFFSETFROM:+0700
TZOFFSETTO:+0700
TZNAME:+07
DTSTART:20240101T000000
END:STANDARD
END:VTIMEZONE
BEGIN:VEVENT
DTSTART;TZID=Asia/Jakarta:20260415T000000
DTEND;TZID=Asia/Jakarta:20260415T235959
DTSTAMP:20260426T005901
CREATED:20250815T052358Z
LAST-MODIFIED:20251020T050949Z
UID:10000026-1776211200-1776297599@commerceincommon.com
SUMMARY:The MARTECH Summit 2026 - Jakarta
DESCRIPTION:Driving MarTech From Local Insights To Global Impact\n\n4+ Hours of Networking\n30+ Speakers\n10+ Sessions\n250+ Attendees\n100+ Regional & International Brands\n80% End-User participation\n85% Senior Management\n\nThemes\n\nData-Driven Marketing\nCustomer Experience & Engagement\nEmerging Marketing Technologies\nBreakout & In-Summit Roundtables\n\nWhy Attend\nThe MarTech Summit is coming to Jakarta for the 4th time\, bringing together some of the brightest minds and most innovative companies in the industry. With insightful panel discussions\, fireside chats\, thought-provoking keynote presentations\, and interactive roundtables\, you will leave the summit equipped with the latest tools and strategies to elevate your marketing efforts. This summit will provide a unique platform for the likes of CMOs\, Heads\, Directors etc to network\, learn and stay ahead of the curve in the ever-evolving world of MarTech. \nWho Should Attend\nThis summit is designed for senior level executives in functions such as:\nMarketing & Technology | Customer Experience (CX) & Engagement | Brand Loyalty & Retention | Data & Consumer Insights | E-commerce Marketing | Digital Strategy | Omnichannel | Innovation | Social Media | Content Strategy & Storytelling | CRM | Product Marketing | Automation | Digital Transformation & Growth | Digital Experience | Information Technology | SEO & SEM \nLearn More \n 
URL:https://commerceincommon.com/events/the-martech-summit-2026-jakarta/
LOCATION:St Regis Jakata\, Jakata\, Indonesia
CATEGORIES:Free Tickets - Invite Only,Paid tickets,Physical
END:VEVENT
BEGIN:VEVENT
DTSTART;TZID=Asia/Singapore:20260324T000000
DTEND;TZID=Asia/Singapore:20260325T235959
DTSTAMP:20260426T005901
CREATED:20251020T050640Z
LAST-MODIFIED:20251020T052838Z
UID:10000039-1774310400-1774483199@commerceincommon.com
SUMMARY:Digital Travel APAC - 2026 Singapore
DESCRIPTION:Reimagining Travel in APAC: Smarter\, Deeper\, More Human\nAs Asia Pacific travel roars back with renewed energy\, today’s travellers are demanding more—more comfort\, more personalisation\, more purpose\, and more seamlessness. Digital Travel APAC Summit 2026 will explore how AI-powered experiences\, direct booking optimization\, cross-generational engagement\, and innovative partnership models are redefining the way the industry connects\, sells\, and engages. From revenue management automation to experience-driven loyalty\, from influencer marketing impact to omnichannel guest journeys\, we’ll unpack the strategies\, technologies\, and data-driven insights shaping profitable growth and meaningful connections across Asia Pacific and beyond. \n\nDiscover how AI\, personalization\, and omnichannel strategies are reshaping APAC’s travel industry at Digital Travel Summit 2026.\nJoin APAC’s top travel leaders to explore direct booking\, loyalty\, and digital innovation at Digital Travel Summit.\nFrom Gen Z to Boomers\, learn how travel brands are crafting seamless\, personalized journeys across channels.\n\n \nLooking Ahead: 10 Hot Topics for 2026\n\nAI & Personalization\n\nAI-powered guest experiences\nGenerative AI for travel marketing\nCustomer Data Platform (CDP) integration\nPredictive personalization in travel\n\nRevenue & Booking Optimization\n\nDirect booking strategies vs OTAs\nRevenue management beyond pricing\nDynamic pricing and upselling\nAirline revenue optimization\n\nMarketing & Engagement\n\nInfluencer marketing ROI\nSocial commerce and TikTok conversion\nExperience-driven loyalty programs\nCross-generational travel marketing (Gen Z\, Millennials\, Boomers)\n\nOmnichannel & Experience Design\n\nSeamless omnichannel guest journeys\nEmotional connection through loyalty\nRedefining luxury travel marketing\nCohesive digital + physical travel experiences\n\nPartnerships & Innovation\n\nMarTech-driven travel innovation\nNon-traditional travel partnerships\nVisionary travel pioneers and startups\n\nData & Strategy\n\nAPAC market insights and benchmarking\nSource market decoding\nPerformance marketing and growth strategies\n\nLearn More\n  \n 
URL:https://commerceincommon.com/events/digital-travel-apac-2026-singapore/
LOCATION:Singapore\, Singapore
CATEGORIES:Free Tickets - Invite Only,Paid tickets,Physical
ATTACH;FMTTYPE=image/jpeg:https://commerceincommon.com/wp-content/uploads/2025/10/Travel-expo.jpg
END:VEVENT
BEGIN:VEVENT
DTSTART;TZID=Asia/Singapore:20260310T000000
DTEND;TZID=Asia/Singapore:20260311T235959
DTSTAMP:20260426T005901
CREATED:20250722T072223Z
LAST-MODIFIED:20251020T053619Z
UID:10000007-1773100800-1773273599@commerceincommon.com
SUMMARY:The MarTech Summit 2026 - Singapore
DESCRIPTION:Future of MarTech: Unified Foundations. Adaptive Growth\n\n\n\n\nThe MarTech Summit Asia in Singapore is our flagship event\, is set to make its mark again in Singapore in March 2026. Featuring a fresh line-up of speakers representing diverse organisations and markets across Asia\, our agenda is thoughtfully crafted with a dynamic mix of panels\, keynotes\, fireside chats\, and more.\n\n\nOver the course of two days and across three stages\, we’ve curated an immersive experience to delve into the latest trends in MarTech. Our thematic tracks encompass customer experience\, data\, analytics & insights\, sales enablement\, and demand generation. Join us for an enriching learning and networking opportunity alongside the likes of CMOs\, Heads\, Directors\, and more. \n\n2 Days\n3 Stages\n5 Themes\n8+ Hours of networking\n30+ Sessions\n70+ Speakers\n500+ Attendees\n80% End-User participants\n\nWhy Attend\nJoin us at The MarTech Summit Asia\, on 10 & 11 March 2026 at Raffles City Convention Centre\, Singapore. This flagship event brings together marketing and technology leaders from across Asia for two days of thought leadership\, networking\, and industry insights. \nWith three focused stages and two new thematic tracks\, the agenda covers full-funnel strategy\, customer experience\, data\, intelligence\, and more – delivered through keynotes\, panels\, fireside chats\, and interactive sessions. \nConnect with senior marketing professionals and digital innovators for a unique opportunity to gain fresh perspectives\, exchange ideas\, and take your marketing strategy to the next level. \nWho Should Attend\nMarketing & Technology | Digital Transformation & AI | Data & Analytics | CRM | Marketing Automation | Performance & Demand Marketing | Account-Based Marketing | E-commerce Marketing | Paid & Social Media | SEO & SEM | Brand & Content | Customer Experience & Omnichannel | Digital Platforms & Optimisation | Experience & Design | Sales Enablement \n3 (dynamic) Stages – Beyond Just AI:\n\n\n\nDay 1: Powerful MarTech Plenary\nDay 2: Two thematic stages – Full-Funnel Marketing & Customer Intelligence – spotlighting the biggest MarTech trends beyond AI.\n\n\n\nApply for complimentary tickets (Brand/End-Users Only).
URL:https://commerceincommon.com/events/the-martech-summit-asia/
LOCATION:Raffles City Convention Centre\, 80 Bras Basah Rd\, Singapore\, 189560\, Singapore
CATEGORIES:Free Tickets - Invite Only,Paid tickets,Physical
ATTACH;FMTTYPE=image/jpeg:https://commerceincommon.com/wp-content/uploads/2025/07/martech-SG.jpg
END:VEVENT
BEGIN:VEVENT
DTSTART;TZID=Asia/Singapore:20251119T000000
DTEND;TZID=Asia/Singapore:20251121T235959
DTSTAMP:20260426T005901
CREATED:20250825T140846Z
LAST-MODIFIED:20250825T140846Z
UID:10000033-1763510400-1763769599@commerceincommon.com
SUMMARY:DigiTech ASEAN - Bangkok Thailand
DESCRIPTION:Digital Solutions for Business\nYour Southeast Asian face-to-face “Digital Solutions for Business” exhibition and networking platform to connect with the global tech and digital markets \n350+ EXHIBITORS AND 8\,000+ TRADE ATTENDEES/BUYERS\n  \n\n\n\n\n\nYour Southeast Asian face-to-face “Digital Solutions for Business” exhibition and networking platform to connect with the global tech and digital markets\nConferences\nChallenges\, Trends & Market Opportunities \nTechnology Presentation\nTechnology\, Industry\, Business Development ideas & Trends \nWorkshops\nKnowledge & skill developments\, Best practices\, Masterclasses \nCertification Courses\nDigital Skills upgrades and knowledge \nBusiness Matching Program\nPre-Arranged Business Matching meetings between buyers & exhibitors \nWebinars\nMonthly technology webinars during run up to the event\, & after event
URL:https://commerceincommon.com/events/digitech-asean-bangkok-thailand/
LOCATION:IMPACT Exhibition & Convention Centre\, IMPACT Exhibition Center Building Popular Rd\, Bangkok\, 11120\, Thailand
CATEGORIES:Free Tickets Available,Physical
END:VEVENT
BEGIN:VEVENT
DTSTART;TZID=Asia/Singapore:20251119T000000
DTEND;TZID=Asia/Singapore:20251119T235959
DTSTAMP:20260426T005901
CREATED:20251020T042006Z
LAST-MODIFIED:20251020T042006Z
UID:10000037-1763510400-1763596799@commerceincommon.com
SUMMARY:Global Virtual Martech Summit - APAC 2025
DESCRIPTION:Beyond the Buzz: AI That Drives Growth\nThis summit is designed for senior-level MarTech & Marketing professionals in functions such as: \nAI in Marketing | AI Strategy & Innovation | Prompt Engineering | Chatbot Developing | Customer Experience | Predictive Modelling | AI in CRM & Retention | GenAI | Machine Learning | Digital Transformation | Privacy & Ethics | Marketing Automation | Personalisation | AI-Driven Analytics & Insights \nLeveraging expertise in Marketing & MarTech\, we will spotlight handpicked AI innovations and practical use cases that have delivered tangible business results\, with a focus on measurable impact rather than speculation. \n\n+1000 Attendees\n40+ Speakers\n7+ Hours of streamed content\n15+ Content Sessions\n\n  \nWhat’s Different: \n\nAI Experts\, Unfiltered Speakers\nLive streaming and Live Interaction\nHot topics & new voices\n\n 
URL:https://commerceincommon.com/events/global-virtual-martech-summit-apac-2025/
CATEGORIES:Free Tickets Available,Virtual
LOCATION:
END:VEVENT
BEGIN:VEVENT
DTSTART;TZID=Asia/Bangkok:20251007T000000
DTEND;TZID=Asia/Bangkok:20251007T235959
DTSTAMP:20260426T005901
CREATED:20250815T050254Z
LAST-MODIFIED:20250815T050254Z
UID:10000024-1759795200-1759881599@commerceincommon.com
SUMMARY:The MARTECH Summit 2025 - Bangkok
DESCRIPTION:Fusing Innovation & Culture for a More Humanised MarTech Strategy\n\n30+ Speakers\n10+ Sessions\n300+ Attendees\n80% User participation\n\nWhy Attend\nWe’re excited to return to Bangkok this October for a unique edition of The MarTech Summit\, co-located with the Data Demystified Summit. Designed as a closed-door gathering for senior decision-makers across marketing\, digital and CX\, this summit delivers a high-quality delegate networking experience through a curation-first format\, ensuring every connection is valuable and impactful. \nSet in a luxurious 5-star venue\, the summit offers a focused and elevated environment for meaningful conversations\, business exchange\, and insight sharing. With access to both event communities\, attendees will benefit from dual-networking opportunities at the intersection of MarTech innovation and customer data analytics. \nThis year’s agenda spotlights four core themes:\nFuture Trends & Consumer Evolution\, Insights & Personalisation\, Technology & AI in Marketing\, and Brand & Creative Strategy. Expect sessions that emphasise a human-centric\, locally resonant approach to innovation\, drawing global best practices through a local lens. \nWith 85% of attendees in senior leadership roles\, you’ll connect directly with CMOs\, Directors\, Heads of Marketing\, and other key decision-makers shaping the future of customer engagement. \nWho Should Attend\nThis summit is designed for senior-level MarTech experts in functions such as:\nMarketing & Technology | Customer Experience (CX) & Engagement | Brand Loyalty & Retention | E-commerce Marketing | Digital Strategy | Omnichannel | Innovation | Social Media | Content Strategy & Storytelling | CRM | AI Revolution | Automation | Digital Transformation & Growth | Customer Insight | Full-funnel Marketing \nLearn More \n 
URL:https://commerceincommon.com/events/the-martech-summit-2025-bangkok/
LOCATION:Hotel Nikko Bangkok\, 27 Thong Lo\, Bangkok\, Watthana\, 10110\, Thailand
CATEGORIES:Free Tickets - Invite Only,Paid tickets,Physical
END:VEVENT
BEGIN:VEVENT
DTSTART;TZID=Asia/Bangkok:20250918T000000
DTEND;TZID=Asia/Bangkok:20250918T235959
DTSTAMP:20260426T005901
CREATED:20250723T063446Z
LAST-MODIFIED:20250804T134848Z
UID:10000010-1758153600-1758239999@commerceincommon.com
SUMMARY:Retail & eCommerce Summit Asia - Thailand
DESCRIPTION:Next Gen Retail: Innovation & Technology\n\n\n\n\n\nThailand’s retail and e-commerce landscape is undergoing a dynamic transformation driven by shifting consumer behaviors\, rising digital adoption\, and accelerating technological innovation. As one of Southeast Asia’s most promising markets—with over 61 million internet users and a flourishing mobile-first economy—Thailand presents a compelling case for innovation-led retail growth. \nThe Retail & E-commerce Thailand 2025 summit brings together leading retailers\, digital commerce leaders\, technology providers\, and policy influencers under the theme “Next Gen Retail: Innovation & Technology.” This one-day event is designed to explore how cutting-edge innovations—from AI-driven personalization and immersive customer experiences to omnichannel integration and last-mile logistics—are reshaping the future of retail in Thailand. \n\n250+ Attendees\n20+ Speakers\n15+ Sessions\n\n\n\n\n\n\n\n\n\n\n\n\n\n\n\nMarket Snapshot\n\n\n\n\n\nThailand’s total retail market value is estimated at over THB 3.8 trillion (approx. USD 105 billion) as of 2024\, making it one of the largest consumer economies in Southeast Asia.\nThe e-commerce segment alone is expected to exceed USD 30 billion by 2025\, growing at an annual rate of over 13%\, driven by mobile commerce\, social commerce\, and cross-border trade.\nMajor investments are being made in smart retail technologies\, logistics infrastructure\, and digital payment systems to support omnichannel experiences and customer engagement.\n\n\n\nWhy Thailand?\n\n\n\n\n\nA digitally savvy consumer base with high internet and smartphone penetration.\nStrong government support through policies like Thailand 4.0 and the National Digital Economy Master Plan.\nGrowing presence of international and regional retail players\, combined with a thriving SME and startup ecosystem.\n\n\n\nWhy Thailand?\n\n\n\n\n\nInsightful Keynotes from retail pioneers and tech innovators\nFireside Chats on consumer behavior\, AI\, Web3\, and the metaverse in commerce\nInteractive Panels on supply chain innovation\, sustainability\, and fintech in retail\nLive Demos and technology showcases from solution providers across the region\nCurated Networking opportunities connecting leaders\, disruptors\, and decision-makers\n\nThis event is not just a platform to discuss trends—it is a springboard for collaboration\, knowledge exchange\, and future-forward strategies. Whether you’re a retailer seeking to elevate your digital journey\, a tech provider looking to scale\, or a policymaker shaping the next retail wave\, Retail & E-commerce Thailand 2025 is where Thailand’s next generation of commerce takes shape. \n\nRegister
URL:https://commerceincommon.com/events/retail-ecommerce-summit-asia/
LOCATION:JW Marriot Bangkok\, 4 Sukhumvit Rd\, Khlong Toei\, Bangkok\, 10110\, Thailand
CATEGORIES:Free Tickets - Invite Only,Paid tickets,Physical
END:VEVENT
BEGIN:VEVENT
DTSTART;TZID=Asia/Singapore:20250910T000000
DTEND;TZID=Asia/Singapore:20250910T235959
DTSTAMP:20260426T005901
CREATED:20250812T025729Z
LAST-MODIFIED:20250812T025729Z
UID:10000017-1757462400-1757548799@commerceincommon.com
SUMMARY:Big Commerce - Big Summit 2025 APAC - Sydney
DESCRIPTION:BigSummit is where the best in experience-driven commerce and technology meets industry leaders\, innovators\, and disruptors. \nWhat to expect \n\n\n\n\nEXCLUSIVE CONTENT \n\n\n\n\n\n\n\n\nHear from industry thought leaders and experts\, plus get an exclusive first look at our product roadmap \nTAILORED SESSIONS \nChoose from our Ecommerce and Marketing tracks to gain the relevant insights your business needs \nAWARDS AND CELEBRATION \nJoin us for our partner and customer award ceremonies \nPEER NETWORKING \n\n\n\n\n\n\n\nConnect with our community of industry executives\, ecommerce visionaries\, and digital disruptors \n\n\n\n\n\n\n\n\n\n\nLearn More
URL:https://commerceincommon.com/events/big-commerce-big-summit-2025-apac-sydney/
LOCATION:ACO on  Pier\, Suite 3/13A Hickson Rd\, Dawes Point Sydney\, NSW\, 2000\, Australia
CATEGORIES:Free Tickets Available,Physical
END:VEVENT
BEGIN:VEVENT
DTSTART;TZID=Asia/Bangkok:20250903T140000
DTEND;TZID=Asia/Bangkok:20250903T170000
DTSTAMP:20260426T005901
CREATED:20250825T140000Z
LAST-MODIFIED:20250825T140000Z
UID:10000032-1756908000-1756918800@commerceincommon.com
SUMMARY:Grow with Braze Bangkok
DESCRIPTION:In 2025\, marketers in Thailand face unprecedented challenges in customer engagement.\n\nWith 71% of consumers expecting personalized experiences and the rise of AI-powered solutions\, brands must balance creative innovation with data-driven decision-making. The landscape is further complicated by the need for unified customer experiences across channels\, with customers engaging across multiple channels showing 1.6x higher lifetime value. So what should marketers do to navigate this landscape and stay ahead?\n\nGrow with Braze Bangkok 2025 is your compass to navigating these complexities. Learn how leading brands are unifying their marketing tech stack and leveraging AI-driven personalisation to achieve up to 59% higher engagement and 74% more purchases\, through sophisticated customer engagement strategies.
URL:https://commerceincommon.com/events/grow-with-braze-bangkok/
LOCATION:Park Hyatt Bangkok\, Central Embassy\, 88 Wireless Road\, Bangkok\, 10330\, Thailand
CATEGORIES:Free Tickets Available,Physical
END:VEVENT
BEGIN:VEVENT
DTSTART;TZID=Asia/Singapore:20250825T000000
DTEND;TZID=Asia/Singapore:20250827T235959
DTSTAMP:20260426T005901
CREATED:20250822T080622Z
LAST-MODIFIED:20250822T080622Z
UID:10000031-1756080000-1756339199@commerceincommon.com
SUMMARY:Future of Marketing Summit 2025 - Gold Coast\, Australia
DESCRIPTION:2.5 days | 100 Top Marketers | 100 Tech & Solution Providers | Expert Keynotes\, Breakouts\, Quickfires\, Debates\, Firesides\, Panels\, Industry Roundtables & Networking\nFor over twenty years\, iMedia’s marketing and brand summits have been at the forefront of curating impactful forums for collaboration\, hosting thought leadership-driven summits that unite leaders in brand\, marketing and digital innovation. \nThese events have sparked professional relationships and dynamic collaborations\, underscoring the steadfast belief in the power of meaningful connections that propel industry growth and success. Through a meticulously curated Martech programme\, attendees will benefit from networking opportunities and 1:1 meetings with exciting business partners\, and the privilege to learn from some of the most exciting expert speakers on topics and trends relevant to the industry both locally and globally. \nThis Summit is Ideal For\nChief Officers\, Managing Directors\, General or Group Managers\, Directors and/or Heads of \n\nMarketing\nBrand\nDigital\nExperience\nOperations\nMedia\nPerformance\nGrowth\nAudience\nCustomer\nInsights Data\nCRM or equivalent.\n\nLearn\, connect and be inspired. \nBrand\, marketing and digital innovation leaders from across Australia will come together to discuss\, debate and reflect on these top industry topics.
URL:https://commerceincommon.com/events/future-of-marketing-summit-2025-gold-coast-australia/
LOCATION:The Langham\, Australia\, Gold Coast\, QLD\, Australia
CATEGORIES:Free Tickets - Invite Only,Physical
END:VEVENT
BEGIN:VEVENT
DTSTART;TZID=Asia/Singapore:20250821T000000
DTEND;TZID=Asia/Singapore:20250821T235959
DTSTAMP:20260426T005901
CREATED:20250812T040243Z
LAST-MODIFIED:20250812T040243Z
UID:10000023-1755734400-1755820799@commerceincommon.com
SUMMARY:Personalization Pioneers - Unfiltered - 2025 Singapore
DESCRIPTION:Without risk\, there’s no reward\nPresented by Dynamic Yield. \nWHAT WE MEAN BY UNFILTERED\nThis year\, we’re getting candid about the chaos that is personalization in flux\, because success isn’t linear (or always pretty)\, and growth comes from all of the important stuff that happens in between – if we’re bold enough to face it. \nJoin a community of innovators and optimizers as they unveil daring experiments\, unexpected outcomes\, and the learnings that made them stronger along their ongoing and iterative journey with personalization. \nWHY JOIN THE MOVEMENT?\nBreak free from the ordinary\nThis event is about challenging the norms and embracing unfiltered truths. As a digital professional\, you’ll gain fresh\, fearless perspectives on navigating uncharted territories in a rapidly evolving industry. You’ll leave with the tools and inspiration to disrupt outdated practices and redefine success in your field. \nReal stories and real solutions\nExpect authentic\, unpolished insights from industry leaders and peers who’ve navigated the messy realities of digital transformation. Through keynotes\, roundtables\, and workshops\, you’ll explore raw\, actionable strategies for overcoming challenges and adapting to unexpected outcomes in A/B testing\, CRO\, and personalization. \nUnleash your creativity\nWith interactive sessions designed to peel back the layers and get messy\, you’ll be pushed to think differently\, experiment boldly\, and embrace imperfection as a catalyst for innovation. This is your chance to collaborate\, problem-solve\, and spark breakthrough ideas with like-minded digital trailblazers.
URL:https://commerceincommon.com/events/personalization-pioneers-unfiltered-2025-singapore/
LOCATION:RASA Space\, 9 Raffles Place #02-01\, Tower\, #1 Republic Plaza\, Singapore\, 048619\, Singapore
END:VEVENT
BEGIN:VEVENT
DTSTART;TZID=Asia/Singapore:20250820T083000
DTEND;TZID=Asia/Singapore:20250820T183000
DTSTAMP:20260426T005901
CREATED:20250812T035602Z
LAST-MODIFIED:20250812T035656Z
UID:10000022-1755678600-1755714600@commerceincommon.com
SUMMARY:Stripe Tour 2025 - Singapore
DESCRIPTION:Join us for Stripe Tour\, our global roadshow that brings together business leaders in major cities to discuss the most important trends in payments and financial technology.\nAt Stripe Tour Singapore 2025\, you’ll hear from industry experts and fast-growing Stripe users on how to drive customer value\, adapt quickly to economic and technological changes\, and ensure longevity in the marketplace. \nWhy attend\nExplore new ways to grow\nGet inspired by emerging ideas\, new tools\, and creative strategies in payments and financial technology. \nSolve business challenges\nLearn how to make impactful decisions about payments and pricing\, create novel customer experiences\, and more. \nTalk to product experts\nSee new technology in action\, and get hands-on help with your Stripe integration.
URL:https://commerceincommon.com/events/stripe-tour-2025-singapore/
LOCATION:Sands Expo & Convention Centre\, 10 Bayfront Ave\, Singapore\, 018956\, Singapore
CATEGORIES:Free Tickets - Invite Only,Physical
END:VEVENT
BEGIN:VEVENT
DTSTART;TZID=Asia/Bangkok:20250814T083000
DTEND;TZID=Asia/Bangkok:20250814T180000
DTSTAMP:20260426T005901
CREATED:20250812T035109Z
LAST-MODIFIED:20250812T035109Z
UID:10000021-1755160200-1755194400@commerceincommon.com
SUMMARY:DAAT DAY 2025 THE FUTURE OF ATTENTION
DESCRIPTION:The future of Attention
URL:https://commerceincommon.com/events/daat-day-2025-the-future-of-attention/
LOCATION:Bangkok International Trade & Exhibition Centre\, 88 Debaratna Rd\, Bangkok\, 10260\, Thailand
CATEGORIES:Paid tickets,Physical
END:VEVENT
END:VCALENDAR